BEGIN:VCALENDAR
VERSION:2.0
PRODID:-//Supernatural Life Church - ECPv6.15.13.1//NONSGML v1.0//EN
CALSCALE:GREGORIAN
METHOD:PUBLISH
X-WR-CALNAME:Supernatural Life Church
X-ORIGINAL-URL:https://supernaturallifechurch.org
X-WR-CALDESC:Events for Supernatural Life Church
REFRESH-INTERVAL;VALUE=DURATION:PT1H
X-Robots-Tag:noindex
X-PUBLISHED-TTL:PT1H
BEGIN:VTIMEZONE
TZID:UTC
BEGIN:STANDARD
TZOFFSETFROM:+0000
TZOFFSETTO:+0000
TZNAME:UTC
DTSTART:20240101T000000
END:STANDARD
END:VTIMEZONE
BEGIN:VEVENT
DTSTART;TZID=UTC:20250814T100000
DTEND;TZID=UTC:20250814T233000
DTSTAMP:20260423T202030
CREATED:20210809T091524Z
LAST-MODIFIED:20210809T091524Z
UID:13758-1755165600-1755214200@supernaturallifechurch.org
SUMMARY:Church Service
DESCRIPTION:
URL:https://supernaturallifechurch.org/event/church-service/
LOCATION:Hill Avenue\, 3720 Hill Ave\, Regina\, Saskatchewan\, SK S4S 0X5\, Canada
CATEGORIES:Service
ORGANIZER;CN="Supernatural Life Church":MAILTO:superlifem@gmail.com
END:VEVENT
END:VCALENDAR